BEGIN:VCALENDAR
VERSION:2.0
PRODID:-//CaSDaR - ECPv6.14.1//NONSGML v1.0//EN
CALSCALE:GREGORIAN
METHOD:PUBLISH
X-WR-CALNAME:CaSDaR
X-ORIGINAL-URL:https://casdar.ac.uk
X-WR-CALDESC:Events for CaSDaR
REFRESH-INTERVAL;VALUE=DURATION:PT1H
X-Robots-Tag:noindex
X-PUBLISHED-TTL:PT1H
BEGIN:VTIMEZONE
TZID:UTC
BEGIN:STANDARD
TZOFFSETFROM:+0000
TZOFFSETTO:+0000
TZNAME:UTC
DTSTART:20260101T000000
END:STANDARD
END:VTIMEZONE
BEGIN:VEVENT
DTSTART;TZID=UTC:20260311T140000
DTEND;TZID=UTC:20260311T150000
DTSTAMP:20260425T030533
CREATED:20260305T112421Z
LAST-MODIFIED:20260305T112421Z
UID:1327-1773237600-1773241200@casdar.ac.uk
SUMMARY:DCC's Digital Research Infrastructure webinar series: Getting to know BioFAIR
DESCRIPTION:About the Digital Research Infrastructure (DRI) Webinar Series\nStarting in February 2026\, DCC are launching a series of webinars to showcase the digital research infrastructure projects and communities in the UK and beyond in collaboration with UK Research and Innovation (UKRI). Join DCC to learn about state-of-the-art initiatives that aim to advance research tools and techniques\, foster collaboration and data sharing\, and accelerate discoveries across a range of academic disciplines and sectors. And if you work on a research infrastructure project and are interested in being a guest speaker\, please email DCC at info@dcc.ac.uk! \nDescription\nJoin us to learn about BioFAIR\, the BioCommons digital research infrastructure for the UK life sciences community\, from our guest speakers Tony Burdett and Nishadi De Silva. \nBioFAIR is a UKRI funded federated digital research infrastructure and provides end-to-end FAIR research data management & analysis capabilities along with the necessary support and training for UK researchers working in the life sciences. \nSpeakers\n\nTony Burdett\, Director\, BioFAIR\nTony Burdett is the Director of BioFAIR and an experienced leader in bioinformatics\, specialising in FAIR data management and delivery of research-enabling services for the life sciences. He has made significant contributions to international scientific collaborations around the development of innovative data solutions and has been responsible for the delivery of large-scale data platforms\, both at EMBL-EBI and as part of international consortia such as the Human Cell Atlas. As a lead of the ELIXIR Interoperability Platform\, Tony has also been instrumental in developing sustainable\, interoperable data infrastructures across ELIXIR member states and defining innovative approaches to the practical adoption of FAIR principles.\nDr Nishadi De Silva\, Senior Technical Project Manager\, BioFAIR\nAs the Senior Technical Project Manager for BioFAIR\, Dr Nishadi De Silva coordinates cross-disciplinary projects to advance FAIR practices and build a unified digital research infrastructure for the life sciences in the U.K. She works closely with researchers\, software engineers\, delivery partners and stakeholders to align workflow and data management strategies to meet the demands. Prior to that\, Nishadi lead the delivery of bioinformatics resources and coordinated data management at EMBL-EBI and worked in the Pathogen Informatics team at the Wellcome Sanger Institute. Nishadi holds a PhD in Computer Science from the University of Southampton\, U.K.\n\n  \n 
URL:https://casdar.ac.uk/event/dccs-digital-research-infrastructure-webinar-series-getting-to-know-biofair/
LOCATION:Online
CATEGORIES:Community Events,Project Partner Events
END:VEVENT
END:VCALENDAR