BEGIN:VCALENDAR
VERSION:2.0
PRODID:-//CaSDaR - ECPv6.14.1//NONSGML v1.0//EN
CALSCALE:GREGORIAN
METHOD:PUBLISH
X-ORIGINAL-URL:https://casdar.ac.uk
X-WR-CALDESC:Events for CaSDaR
REFRESH-INTERVAL;VALUE=DURATION:PT1H
X-Robots-Tag:noindex
X-PUBLISHED-TTL:PT1H
BEGIN:VTIMEZONE
TZID:UTC
BEGIN:STANDARD
TZOFFSETFROM:+0000
TZOFFSETTO:+0000
TZNAME:UTC
DTSTART:20260101T000000
END:STANDARD
END:VTIMEZONE
BEGIN:VEVENT
DTSTART;VALUE=DATE:20260216
DTEND;VALUE=DATE:20260219
DTSTAMP:20260423T053128
CREATED:20260204T110703Z
LAST-MODIFIED:20260204T110703Z
UID:1291-1771200000-1771459199@casdar.ac.uk
SUMMARY:International Digital Curation Conference
DESCRIPTION:NB: Whilst registration for IDCC26 has officially closed\, if you are still interested in attending the conference please contact idcc@dcc.ac.uk. \nThe 20th edition of the International Digital Curation Conference (IDCC26) will take place in Zagreb\, Croatia between 16-18 February 2026. The main theme for the conference is AI\, austerity\, and authoritarianism: contemporary challenges in digital curation. \nThe International Digital Curation Conference (IDCC) is an established annual event with a unique place in the digital curation community\, reaching out to individuals\, organisations and institutions across all disciplines and domains involved in curating data and providing an opportunity to get together with like-minded data practitioners to discuss policy and practice.
URL:https://casdar.ac.uk/event/international-digital-curation-conference/
LOCATION:Esplanade Zagreb Hotel\, Mihanovićeva ul. 1\, Zagreb\, 10000\, Croatia (Local Name: Hrvatska)
CATEGORIES:Community Events,Project Partner Events
END:VEVENT
END:VCALENDAR