BEGIN:VCALENDAR
VERSION:2.0
PRODID:-//CaSDaR - ECPv6.14.1//NONSGML v1.0//EN
CALSCALE:GREGORIAN
METHOD:PUBLISH
X-ORIGINAL-URL:https://casdar.ac.uk
X-WR-CALDESC:Events for CaSDaR
REFRESH-INTERVAL;VALUE=DURATION:PT1H
X-Robots-Tag:noindex
X-PUBLISHED-TTL:PT1H
BEGIN:VTIMEZONE
TZID:UTC
BEGIN:STANDARD
TZOFFSETFROM:+0000
TZOFFSETTO:+0000
TZNAME:UTC
DTSTART:20250101T000000
END:STANDARD
END:VTIMEZONE
BEGIN:VEVENT
DTSTART;TZID=UTC:20251210T110000
DTEND;TZID=UTC:20251210T120000
DTSTAMP:20260425T090042
CREATED:20251114T170048Z
LAST-MODIFIED:20260408T091823Z
UID:1085-1765364400-1765368000@casdar.ac.uk
SUMMARY:CaSDaR's Data Steward Stories: Dr James Steele
DESCRIPTION:Overview\n\n\n\n\n\nIn this Data Stewards Stories session\, Dr James Steele will provide an overview of his career in supporting data stewardship from a holistic perspective\, from navigating research dissemination to the appropriate use of statistics. \n\n\n\nAudience\nThis webinar would be ideal for individuals who are working in roles involving data management planning\, management of research or data processes within organisations\, or researchers who have an interest into moving into the role of Data Steward. \nSpeaker Biography\nJames Steele has extensive experience of handling data in the academic\, public and private sectors; he not only runs his own company providing consultancy services to support research best practice but also works full time as the Head of Research at MacroFactor. \nJames earned his PhD in Clinical Exercise Science before joining Solent University as a lecturer in Applied Sports Science. Alongside teaching\, he held the role of Research and Innovation Fellow and was later promoted to Associate Professor in 2016. Throughout his academic career\, James promoted research integrity\, eventually becoming Solent’s Local Network Lead for the UK Reproducibility Network. James has actively supported researchers in adopting practices such as open data\, pre-registration\, and pre-print archiving\, with a focus on supporting ECRs to develop these skills. \nIn 2024\, James transitioned from academia to become Head of Research at Kieser Australia\, a company focused on evidence-based strength training programs. This role introduced him to new types of datasets beyond those commonly used in academia\, while he continued to advocate for reproducible research and transparency in scientific practice. \nIn this session\, James will share insights into how his commitment to evidence-based decisions and research integrity has shaped his career trajectory.
URL:https://casdar.ac.uk/event/casdars-data-steward-stories-dr-james-steele/
LOCATION:Online
CATEGORIES:Data Steward Stories
END:VEVENT
END:VCALENDAR