BEGIN:VCALENDAR
VERSION:2.0
PRODID:-//CaSDaR - ECPv6.14.1//NONSGML v1.0//EN
CALSCALE:GREGORIAN
METHOD:PUBLISH
X-WR-CALNAME:CaSDaR
X-ORIGINAL-URL:https://casdar.ac.uk
X-WR-CALDESC:Events for CaSDaR
REFRESH-INTERVAL;VALUE=DURATION:PT1H
X-Robots-Tag:noindex
X-PUBLISHED-TTL:PT1H
BEGIN:VTIMEZONE
TZID:UTC
BEGIN:STANDARD
TZOFFSETFROM:+0000
TZOFFSETTO:+0000
TZNAME:UTC
DTSTART:20260101T000000
END:STANDARD
END:VTIMEZONE
BEGIN:VEVENT
DTSTART;TZID=UTC:20260422T100000
DTEND;TZID=UTC:20260422T130000
DTSTAMP:20260422T105837
CREATED:20260305T131810Z
LAST-MODIFIED:20260408T091304Z
UID:1329-1776852000-1776862800@casdar.ac.uk
SUMMARY:Developing Career Options for Data Stewards (In Person & Online) #LondonEdition
DESCRIPTION:Registration Links\n\nRegister to join in person\nRegister to join online \n\nOverview\nJoin us for one of two participatory research events exploring the future of data stewardship. In collaboration with the Research Data Alliance’s Data Steward Careers Track Working Group\, the University of Sheffield Library and CaSDaR are bringing together people from across the sector to co-create Data Steward personas. Bursaries are available for in-person attendance\, and this event is offered as a hybrid sessions. This event is one of two events run in collaboration with UCL’s Office for Open Science and Scholarship and STEP-UP. \nAs the volume and complexity of research data continue to grow\, so does the essential role of Data Stewards—professionals who ensure that data is shareable\, reusable\, and aligned with FAIR principles. Although many roles\, including librarians\, archivists\, Research Software Engineers (RSEs)\, research managers\, technicians\, and researchers routinely perform data stewardship activities\, the position of “Data Steward” remains under-defined and often under-recognised in many countries.  \nExisting work largely focuses on defining the responsibilities of Data Stewards and the skills and training required to succeed in these roles. However\, there is limited attention on establishing clear\, sustainable career pathways for Data Stewards. The RDA Data Steward Career Tracks Working Group (WG)\, part of the Research Data Alliance\, aims to address this gap by developing a systematic methodology for defining data steward personas and mapping potential career pathways for these roles.  \nThis hands-on workshop introduces the concept of employee personas—semi-fictional profiles that reflect the motivations\, needs\, and challenges of data stewards. Through discussion and collaborative activities\, participants will help shape practical profiles that organisations can use to enhance job design\, professional development\, training pathways\, and HR practices. \nThis event will bring together key stakeholders to contribute to the WG’s work by collaboratively developing Data Steward Personas. This work will deliver two major outcomes: stronger evidence to support the RDA’s methodology for developing Data Steward personas\, and a set of personas that will directly inform the collaborative groups’ work in defining the role\, establishing skills frameworks\, and shaping future career pathways\, and will provide a networking opportunity for attendees. \nThe session will begin with a brief introduction to the Working Group’s objectives\, followed by an interactive workshop. Lunch will be provided (for those attending in person) with opportunities for networking and informal discussion throughout.  \nTarget Audience / Prerequisites: \nThis workshop is suitable for individuals currently working in\, or closely connected to\, data stewardship—including librarians\, archivists\, RSEs\, research managers\, technicians\, researchers\, and established Data Stewards. It is especially relevant for those interested in shaping or understanding potential career trajectories for Data Stewards and contributing to the development of representative personas.  \nLocation Information\nWe are offering two hybrid events; one online on the 14th April 2026 and another at UCL on the 22nd April 2026\, as part of the London Open Science and Scholarship Festival 2026. Bursaries are available for in-person attendance\, and both events are offered as hybrid sessions (please note that the deadline for applying for bursaries for this event is the 15th April 2026). Please note that this event page is for the London Event on the 22nd April. If you wish to find out more about the Online Event on the 14th April click here. \nBursary Support\nIf you would like to apply for bursary to support your attendance\, then please click on this link to fill out the form. \nEthics Notice\nAs this workshop involves the collection of data that will be shared as an output\, ethical approval has been secured. We will request your consent at the start of the session.  \n  \n\n 
URL:https://casdar.ac.uk/event/developing-career-options-for-data-stewards-london/
LOCATION:Blue Room\, UCL\, Blue Room\, UCL Main Campus\, Gower Street [OR ONLINE]\, London\, WC1E 6AE\, United Kingdom
CATEGORIES:CaSDaR Events,Community Events
END:VEVENT
END:VCALENDAR